BEGIN:VCALENDAR
VERSION:2.0
PRODID:-//Palacio de Congresos de Salamanca - ECPv6.15.12.2//NONSGML v1.0//EN
CALSCALE:GREGORIAN
METHOD:PUBLISH
X-ORIGINAL-URL:https://palaciosalamanca.es
X-WR-CALDESC:Eventos para Palacio de Congresos de Salamanca
REFRESH-INTERVAL;VALUE=DURATION:PT1H
X-Robots-Tag:noindex
X-PUBLISHED-TTL:PT1H
BEGIN:VTIMEZONE
TZID:Europe/Madrid
BEGIN:DAYLIGHT
TZOFFSETFROM:+0100
TZOFFSETTO:+0200
TZNAME:CEST
DTSTART:20220327T010000
END:DAYLIGHT
BEGIN:STANDARD
TZOFFSETFROM:+0200
TZOFFSETTO:+0100
TZNAME:CET
DTSTART:20221030T010000
END:STANDARD
BEGIN:DAYLIGHT
TZOFFSETFROM:+0100
TZOFFSETTO:+0200
TZNAME:CEST
DTSTART:20230326T010000
END:DAYLIGHT
BEGIN:STANDARD
TZOFFSETFROM:+0200
TZOFFSETTO:+0100
TZNAME:CET
DTSTART:20231029T010000
END:STANDARD
BEGIN:DAYLIGHT
TZOFFSETFROM:+0100
TZOFFSETTO:+0200
TZNAME:CEST
DTSTART:20240331T010000
END:DAYLIGHT
BEGIN:STANDARD
TZOFFSETFROM:+0200
TZOFFSETTO:+0100
TZNAME:CET
DTSTART:20241027T010000
END:STANDARD
END:VTIMEZONE
BEGIN:VEVENT
DTSTART;VALUE=DATE:20231104
DTEND;VALUE=DATE:20231106
DTSTAMP:20260421T111229
CREATED:20231227T093525Z
LAST-MODIFIED:20231227T093525Z
UID:10000122-1699056000-1699228799@palaciosalamanca.es
SUMMARY:Expoboda Salamanca 2023
DESCRIPTION:Expoboda Salamanca se ha convertido en el mayor salón de bodas\, comuniones y celebraciones de Salamanca y provincia y en un salón imprescindible para todas aquellas personas que vayan a realizar un evento en 2023 o 2024. \n La fecha será el fin de semana del 4 y 5 de noviembre en el Palacio de Congresos de Salamanca.     \nExpoboda Salamanca 2023\n En esta nueva edición de expoboda Salamanca 2023 se contará con gran variedad de empresas expositoras y diferentes actividades como desfiles\, presentación de nuevos productos\, últimas tendencias\, promociones\, ofertas…   \n  Desde su primera edición en el año 2015\, Expoboda Salamanca es el punto de referencia para todos los novios que buscan ideas\, inspiración y consejos para su gran día.  Durante la feria\, novios y profesionales del sector tendrán la oportunidad de reunirse\, conocerse y descubrir las últimas tendencias en moda nupcial\, decoración\, floristería\, catering\, organización de bodas\, regalos\, fotografía y vídeo\, etc… además\, Expoboda Salamanca 2023 ofrece una amplia variedad de actividades para los novios\, como talleres\, conferencias\, desfiles de moda\, espectáculos\, concursos\, etc. Estas actividades son organizadas por los mejores profesionales del sector y les ayudarán a conseguir una boda perfecta.  Con la presencia de una gran cantidad de expositores que ofrecen todo tipo de productos y servicios para bodas\, desde vestidos de novia hasta el más mínimo detalle.  Los novios pueden conocer de primera mano todos los detalles de la boda y planificar el gran día con la ayuda de los profesionales. En definitiva\, Expoboda Salamanca 2023 es un salón de bodas único para todos los novios que quieren celebrar su boda de manera única y especial. En este salón tendrás la oportunidad de conocer a los mejores profesionales del sector y descubrir las últimas tendencias en el mundo nupcial… Además de aprovechar ofertas y descuentos exclusivos de proveedores para nuestros salones.  ¡No te la puedes perder!  DESCARGA TU INVITACIÓN GRATIS para EXPOBODA SALAMANCA 2023: pincha aquí  
URL:https://palaciosalamanca.es/evento/expoboda-salamanca-2023__trashed/
LOCATION:Gran Circo Acrobático de China
ATTACH;FMTTYPE=image/png:https://palaciosalamanca.es/wp-content/uploads/2023/12/expoboda-1.png
END:VEVENT
END:VCALENDAR