BEGIN:VCALENDAR
VERSION:2.0
PRODID:-//Palacio de Congresos de Salamanca - ECPv6.15.12.2//NONSGML v1.0//EN
CALSCALE:GREGORIAN
METHOD:PUBLISH
X-ORIGINAL-URL:https://palaciosalamanca.es
X-WR-CALDESC:Eventos para Palacio de Congresos de Salamanca
REFRESH-INTERVAL;VALUE=DURATION:PT1H
X-Robots-Tag:noindex
X-PUBLISHED-TTL:PT1H
BEGIN:VTIMEZONE
TZID:Europe/Madrid
BEGIN:DAYLIGHT
TZOFFSETFROM:+0100
TZOFFSETTO:+0200
TZNAME:CEST
DTSTART:20220327T010000
END:DAYLIGHT
BEGIN:STANDARD
TZOFFSETFROM:+0200
TZOFFSETTO:+0100
TZNAME:CET
DTSTART:20221030T010000
END:STANDARD
BEGIN:DAYLIGHT
TZOFFSETFROM:+0100
TZOFFSETTO:+0200
TZNAME:CEST
DTSTART:20230326T010000
END:DAYLIGHT
BEGIN:STANDARD
TZOFFSETFROM:+0200
TZOFFSETTO:+0100
TZNAME:CET
DTSTART:20231029T010000
END:STANDARD
BEGIN:DAYLIGHT
TZOFFSETFROM:+0100
TZOFFSETTO:+0200
TZNAME:CEST
DTSTART:20240331T010000
END:DAYLIGHT
BEGIN:STANDARD
TZOFFSETFROM:+0200
TZOFFSETTO:+0100
TZNAME:CET
DTSTART:20241027T010000
END:STANDARD
END:VTIMEZONE
BEGIN:VEVENT
DTSTART;TZID=Europe/Madrid:20231006T080000
DTEND;TZID=Europe/Madrid:20231007T200000
DTSTAMP:20260421T110046
CREATED:20231227T093525Z
LAST-MODIFIED:20231227T093525Z
UID:10000112-1696579200-1696708800@palaciosalamanca.es
SUMMARY:II Simposio Ibérico de Audiología en Niños con Discapacidad Auditiva
DESCRIPTION:El objetivo del II Simposio Ibérico Niños con sordera\, es compartir las inquietudes sobre la intervención en niños con discapacidad auditiva y buscar puntos de encuentro para desarrollar acciones consecutivas para mejorar la intervención en la población infantil.
URL:https://palaciosalamanca.es/evento/ii-simposio-iberico-de-audiologia-en-ninos-con-discapacidad-auditiva__trashed/
LOCATION:Gran Circo Acrobático de China
ATTACH;FMTTYPE=image/jpeg:https://palaciosalamanca.es/wp-content/uploads/2023/12/simposio-iberico.jpg
END:VEVENT
BEGIN:VEVENT
DTSTART;TZID=Europe/Madrid:20231007T210000
DTEND;TZID=Europe/Madrid:20231007T210000
DTSTAMP:20260421T110046
CREATED:20231227T093525Z
LAST-MODIFIED:20231227T093525Z
UID:10000098-1696712400-1696712400@palaciosalamanca.es
SUMMARY:ÁNGEL MARTÍN en Salamanca
DESCRIPTION:Punto para los locos.\n Con “Punto para los locos”\, Ángel Martín intentará que te des cuenta de que lo único que nos diferencia no es si estás o no estás loco\, sino a que volumen están en tu cabeza la voz de la vergüenza\, el miedo\, los agobios\, la impaciencia… e intentará que\, la próxima vez que una de esas voces vuelva\, no puedas evitar burlarte de ella y poner en el marcador otro “punto para los locos”.     \nÁngel Martín en Salamanca.\n Ángel Martín\, actor\, cómico y presentador presenta su gira «Punto para los locos»\, un monólogo basado en el libro «Por si las voces vuelven«\, publicado en noviembre de 2021\, en el que narra como\, en 2017\, tuvo que ser internado durante quince días tras sufrir un brote psicótico.     DURACIÓN:  75 minutos.  EDAD RECOMENDADA PARA MAYORES DE 16 AÑOS.  VENTA DE ENTRADAS : www.mundoangelmartin.com  El evento de Ángel Martín en Salamanca tendrá lugar en la Sala Mayor del Palacio de Congresos y Exposiciones de Salamanca.
URL:https://palaciosalamanca.es/evento/angel-martin-en-salamanca__trashed/
LOCATION:Gran Circo Acrobático de China
ATTACH;FMTTYPE=image/jpeg:https://palaciosalamanca.es/wp-content/uploads/2023/12/23.10.07-Angel-Martin.-Punto-para-los-locos-scaled-3.jpg
END:VEVENT
END:VCALENDAR