BEGIN:VCALENDAR
VERSION:2.0
PRODID:-//Palacio de Congresos de Salamanca - ECPv6.15.12.2//NONSGML v1.0//EN
CALSCALE:GREGORIAN
METHOD:PUBLISH
X-ORIGINAL-URL:https://palaciosalamanca.es
X-WR-CALDESC:Eventos para Palacio de Congresos de Salamanca
REFRESH-INTERVAL;VALUE=DURATION:PT1H
X-Robots-Tag:noindex
X-PUBLISHED-TTL:PT1H
BEGIN:VTIMEZONE
TZID:Europe/Madrid
BEGIN:DAYLIGHT
TZOFFSETFROM:+0100
TZOFFSETTO:+0200
TZNAME:CEST
DTSTART:20220327T010000
END:DAYLIGHT
BEGIN:STANDARD
TZOFFSETFROM:+0200
TZOFFSETTO:+0100
TZNAME:CET
DTSTART:20221030T010000
END:STANDARD
BEGIN:DAYLIGHT
TZOFFSETFROM:+0100
TZOFFSETTO:+0200
TZNAME:CEST
DTSTART:20230326T010000
END:DAYLIGHT
BEGIN:STANDARD
TZOFFSETFROM:+0200
TZOFFSETTO:+0100
TZNAME:CET
DTSTART:20231029T010000
END:STANDARD
BEGIN:DAYLIGHT
TZOFFSETFROM:+0100
TZOFFSETTO:+0200
TZNAME:CEST
DTSTART:20240331T010000
END:DAYLIGHT
BEGIN:STANDARD
TZOFFSETFROM:+0200
TZOFFSETTO:+0100
TZNAME:CET
DTSTART:20241027T010000
END:STANDARD
END:VTIMEZONE
BEGIN:VEVENT
DTSTART;TZID=Europe/Madrid:20230924T200000
DTEND;TZID=Europe/Madrid:20230924T200000
DTSTAMP:20260421T123301
CREATED:20231227T093525Z
LAST-MODIFIED:20231227T093525Z
UID:10000097-1695585600-1695585600@palaciosalamanca.es
SUMMARY:PIENSA EN WILBUR - Gimnasia artística en Salamanca
DESCRIPTION:Piensa en Wilbur: Gimnasia Artística en Salamanca.\n‘Piensa en Wilbur’ es un espectáculo plagado de acrobacias\, humor\, y riesgo\, mucho riesgo: la única manera en la que Wilbur sabe vivir. Con una técnica y un físico fuera de lo común\, creará situaciones imposibles que dejarán al público anonadado. Acompañado de sus amigos inseparables: Contractura\, Tirón y Desgarro nos demostrará que la acrobacia no es solo un deporte. Un espectáculo que impactará en el público (literalmente). Piensa en Wilbur es un espectáculo de Gimnasia Artística en Salamanca. \nVíctor Ortiz (1981\, Alicante)\, más conocido como Wilbur\, es gimnasta\, actor y artista de circo. Con tan solo cinco años se inició por casualidad en el mundo de la gimnasia artística. Especialista en aparatos de suelo\, salto y barra\, fue perfeccionando su técnica hasta llegar a competir al lado de gimnastas como Gervasio Deferr o Oriol Combarros. A los 16 años\, se quedó a las puertas del CAR de Madrid\, pero decidió seguir entrenando\, llegando a proclamarse campeón de España de acrosport. \nEntrenando en su Alicante natal\, conoció al malabarista ‘Piti’ con el que empezó a actuar. De hecho\, su nombre artístico Wilbur surge 10 minutos antes de una actuación en Elche\, leyendo panfletos de publicidad. A partir de ese momento\, decide que su vida va a ser el circo\, llegando a formar parte del Cirque du Soleil como acróbata. \n‘Piensa en Wilbur’ es su primer espectáculo unipersonal de gimnasia artística en Salamanca. Un show que ha ido creciendo con el tiempo y que ha hecho disfrutar a miles de espectadores. De hecho\, miles de ellos le siguen también en sus redes sociales\, en las que acumula más de 900.000 seguidores -entre Instagram y TikTok-. \n    \nFicha artística:\n ● Guion e interpretación: Víctor Wilbur. ● Producción: MPC Management. ● Apto para todos los públicos. ● Duración aproximada: 90 min.  Venta de entradas para el espectáculo de Gimnasia Artística en Salamanca: www.giglon.com     El espectáculo de Gimnasia Artística en Salamanca tendrá lugar el próximo martes 24 de septiembre de 2023 a las 20:00h en la Sala Menor del Palacio de Congresos de Salamanca.
URL:https://palaciosalamanca.es/evento/gimnasia-artistica-en-salamanca__trashed/
LOCATION:Gran Circo Acrobático de China
ATTACH;FMTTYPE=image/jpeg:https://palaciosalamanca.es/wp-content/uploads/2023/12/A3_Wilbur_SALAMANCA_-scaled-1.jpg
END:VEVENT
END:VCALENDAR