BEGIN:VCALENDAR
VERSION:2.0
PRODID:-//Palacio de Congresos de Salamanca - ECPv6.15.12.2//NONSGML v1.0//EN
CALSCALE:GREGORIAN
METHOD:PUBLISH
X-WR-CALNAME:Palacio de Congresos de Salamanca
X-ORIGINAL-URL:https://palaciosalamanca.es
X-WR-CALDESC:Eventos para Palacio de Congresos de Salamanca
REFRESH-INTERVAL;VALUE=DURATION:PT1H
X-Robots-Tag:noindex
X-PUBLISHED-TTL:PT1H
BEGIN:VTIMEZONE
TZID:Europe/Madrid
BEGIN:DAYLIGHT
TZOFFSETFROM:+0100
TZOFFSETTO:+0200
TZNAME:CEST
DTSTART:20220327T010000
END:DAYLIGHT
BEGIN:STANDARD
TZOFFSETFROM:+0200
TZOFFSETTO:+0100
TZNAME:CET
DTSTART:20221030T010000
END:STANDARD
BEGIN:DAYLIGHT
TZOFFSETFROM:+0100
TZOFFSETTO:+0200
TZNAME:CEST
DTSTART:20230326T010000
END:DAYLIGHT
BEGIN:STANDARD
TZOFFSETFROM:+0200
TZOFFSETTO:+0100
TZNAME:CET
DTSTART:20231029T010000
END:STANDARD
BEGIN:DAYLIGHT
TZOFFSETFROM:+0100
TZOFFSETTO:+0200
TZNAME:CEST
DTSTART:20240331T010000
END:DAYLIGHT
BEGIN:STANDARD
TZOFFSETFROM:+0200
TZOFFSETTO:+0100
TZNAME:CET
DTSTART:20241027T010000
END:STANDARD
END:VTIMEZONE
BEGIN:VEVENT
DTSTART;TZID=Europe/Madrid:20230910T100000
DTEND;TZID=Europe/Madrid:20230910T233000
DTSTAMP:20260421T123237
CREATED:20231227T093525Z
LAST-MODIFIED:20231227T093525Z
UID:10000106-1694340000-1694388600@palaciosalamanca.es
SUMMARY:XVIII Open Internacional de Ajedrez Ciudad de Salamanca
DESCRIPTION:XVIII Open Internacional de Ajedrez Ciudad de Salamanca\nEl domingo 10 de septiembre se celebrará con motivo de las Ferias y Fiestas de Salamanca 2023 la XVIII edición del Open Internacional de Ajedrez Ciudad de Salamanca “Memorial Francisco Javier Sanz Alonso”. \nEl torneo comenzará a las 10.00h y se jugará en sesión de mañana y tarde. La sesión de la tarde dará comienzo a las 16.00h. La clausura está prevista a las 19.00h. \n    Información:  \n\nLugar de juego: Palacio de Congresos y Exposiciones.\nSistema de juego: Suizo a 8 rondas partidas 15 min. + 2 seg. por movimiento Los emparejamientos se realizarán mediante soporte informático\, utilizando un programa oficialmente reconocido por la FIDE.\nCriterios de desempate: Bucholz total\, Mediano Bucholz\, Progresivo\, Sonnenborg-Berger y sorteo.\nPremios: Todos los premios serán abonados mediante transferencia bancaria. La lista de premios es la siguiente:\n\n1º 300\n2º 250\n3º 225\n4º 200\n5º 150\n6º 125\n7º 100\n8º 100\n9º 50\n10º 50\n\n\nInscripción: 10€. Debiendo formalizarse antes del día 8 de septiembre.\nNúmero de plazas: 100 jugadores. Las plazas se cubrirán por riguroso orden de inscripción. Las inscripción se formalizará a través del siguiente chesstorneosalamanca@gmail.com y el pago se realizará en el siguiente número de cuenta ES97 2103 2207 1100 3694 3502  Hasta que no esté realizado el abono de la inscripción esta no se considerará completada.\n\n Más información disponible del XVIII Open Internacional de Ajedrez Ciudad de Salamanca en la pagina web del Club Ajedrez de Salamanca: https://salamancaajedrez.com/
URL:https://palaciosalamanca.es/evento/ajedrez-ciudad-de-salamanca__trashed/
LOCATION:Gran Circo Acrobático de China
ATTACH;FMTTYPE=image/png:https://palaciosalamanca.es/wp-content/uploads/2023/12/open-internacional-fiestas-de-salamanca-1.png
END:VEVENT
END:VCALENDAR