BEGIN:VCALENDAR
VERSION:2.0
PRODID:-//Palacio de Congresos de Salamanca - ECPv6.15.12.2//NONSGML v1.0//EN
CALSCALE:GREGORIAN
METHOD:PUBLISH
X-ORIGINAL-URL:https://palaciosalamanca.es
X-WR-CALDESC:Eventos para Palacio de Congresos de Salamanca
REFRESH-INTERVAL;VALUE=DURATION:PT1H
X-Robots-Tag:noindex
X-PUBLISHED-TTL:PT1H
BEGIN:VTIMEZONE
TZID:Europe/Madrid
BEGIN:DAYLIGHT
TZOFFSETFROM:+0100
TZOFFSETTO:+0200
TZNAME:CEST
DTSTART:20220327T010000
END:DAYLIGHT
BEGIN:STANDARD
TZOFFSETFROM:+0200
TZOFFSETTO:+0100
TZNAME:CET
DTSTART:20221030T010000
END:STANDARD
BEGIN:DAYLIGHT
TZOFFSETFROM:+0100
TZOFFSETTO:+0200
TZNAME:CEST
DTSTART:20230326T010000
END:DAYLIGHT
BEGIN:STANDARD
TZOFFSETFROM:+0200
TZOFFSETTO:+0100
TZNAME:CET
DTSTART:20231029T010000
END:STANDARD
BEGIN:DAYLIGHT
TZOFFSETFROM:+0100
TZOFFSETTO:+0200
TZNAME:CEST
DTSTART:20240331T010000
END:DAYLIGHT
BEGIN:STANDARD
TZOFFSETFROM:+0200
TZOFFSETTO:+0100
TZNAME:CET
DTSTART:20241027T010000
END:STANDARD
END:VTIMEZONE
BEGIN:VEVENT
DTSTART;TZID=Europe/Madrid:20230904T080000
DTEND;TZID=Europe/Madrid:20230907T233000
DTSTAMP:20260421T123307
CREATED:20231227T093525Z
LAST-MODIFIED:20231227T093525Z
UID:10000105-1693814400-1694129400@palaciosalamanca.es
SUMMARY:Startup Olé 2023
DESCRIPTION:10ª Edición de la Feria de emprendimiento Startup Olé 2023.  \nStartup Olé 2023\n Del 4 al 7 de septiembre se celebrará en Salamanca la 10ª edición de la feria internacional de emprendimiento empresarial\, STARTUP OLÉ 2023.  El evento reunirá a agentes de la tecnología y la innovación\, como startups\, aceleradoras\, corporaciones\, inversores\, universidades e instituciones públicas.  Startup Olé es una plataforma donde las startups conectan con todo el resto del ecosistema. Su objetivo es impulsar la colaboración y la transformación digital a través de un completo programa de actividades.  Startup OLÉ 2023\,  ha reunido a lo largo de su historia a +40.000 asistentes de +120 países; +1.500 startups\, scaleups y spin-offs; +1.200 hablantes; +300 empresas e inversores con cartera de inversión superior a 100kM€.     La décima edición será la feria más grande celebrada hasta la fecha.  Toda la información del evento y la agenda está disponible en https://startupole.eu/  Si quieres ir como asistente\, ya puedes reservar tu plaza aquí.     El Palacio de Congresos de Salamanca será la sede principal de la 10ª edición de Startup Olé\, acogiendo en sus instalaciones más de 240 stand distribuidos por todas las estancias y las plantas del Palacio de Congresos de Salamanca.  La agenda\, los mapas y el resto del información puedes descargarla en este enlace.   
URL:https://palaciosalamanca.es/evento/startup-ole-2023__trashed/
LOCATION:Gran Circo Acrobático de China
ATTACH;FMTTYPE=image/png:https://palaciosalamanca.es/wp-content/uploads/2023/12/Cartel-6.png
END:VEVENT
END:VCALENDAR