BEGIN:VCALENDAR
VERSION:2.0
PRODID:-//Palacio de Congresos de Salamanca - ECPv6.15.12.2//NONSGML v1.0//EN
CALSCALE:GREGORIAN
METHOD:PUBLISH
X-WR-CALNAME:Palacio de Congresos de Salamanca
X-ORIGINAL-URL:https://palaciosalamanca.es
X-WR-CALDESC:Eventos para Palacio de Congresos de Salamanca
REFRESH-INTERVAL;VALUE=DURATION:PT1H
X-Robots-Tag:noindex
X-PUBLISHED-TTL:PT1H
BEGIN:VTIMEZONE
TZID:Europe/Madrid
BEGIN:DAYLIGHT
TZOFFSETFROM:+0100
TZOFFSETTO:+0200
TZNAME:CEST
DTSTART:20210328T010000
END:DAYLIGHT
BEGIN:STANDARD
TZOFFSETFROM:+0200
TZOFFSETTO:+0100
TZNAME:CET
DTSTART:20211031T010000
END:STANDARD
BEGIN:DAYLIGHT
TZOFFSETFROM:+0100
TZOFFSETTO:+0200
TZNAME:CEST
DTSTART:20220327T010000
END:DAYLIGHT
BEGIN:STANDARD
TZOFFSETFROM:+0200
TZOFFSETTO:+0100
TZNAME:CET
DTSTART:20221030T010000
END:STANDARD
BEGIN:DAYLIGHT
TZOFFSETFROM:+0100
TZOFFSETTO:+0200
TZNAME:CEST
DTSTART:20230326T010000
END:DAYLIGHT
BEGIN:STANDARD
TZOFFSETFROM:+0200
TZOFFSETTO:+0100
TZNAME:CET
DTSTART:20231029T010000
END:STANDARD
END:VTIMEZONE
BEGIN:VEVENT
DTSTART;VALUE=DATE:20220212
DTEND;VALUE=DATE:20220213
DTSTAMP:20260426T052146
CREATED:20220131T124357Z
LAST-MODIFIED:20231227T091922Z
UID:10000019-1644624000-1644710399@palaciosalamanca.es
SUMMARY:XIII Gala del Amor y del Humor
DESCRIPTION:Dos sesiones: 18:00 h. y 21:30 h.  Venta de entradas: Discos Long Play (Rúa Mayor\, 21\, Salamanca).  Más información: lagaladelamorydelhumor.com
URL:https://palaciosalamanca.es/evento/xiii-gala-del-amor-y-del-humor/
LOCATION:Gran Circo Acrobático de China
ATTACH;FMTTYPE=image/jpeg:https://palaciosalamanca.es/wp-content/uploads/2023/12/Cartel_XIII_Gala_del_Amor.jpg
END:VEVENT
END:VCALENDAR