BEGIN:VCALENDAR
VERSION:2.0
PRODID:-//Palacio de Congresos de Salamanca - ECPv6.15.12.2//NONSGML v1.0//EN
CALSCALE:GREGORIAN
METHOD:PUBLISH
X-WR-CALNAME:Palacio de Congresos de Salamanca
X-ORIGINAL-URL:https://palaciosalamanca.es
X-WR-CALDESC:Eventos para Palacio de Congresos de Salamanca
REFRESH-INTERVAL;VALUE=DURATION:PT1H
X-Robots-Tag:noindex
X-PUBLISHED-TTL:PT1H
BEGIN:VTIMEZONE
TZID:Europe/Madrid
BEGIN:DAYLIGHT
TZOFFSETFROM:+0100
TZOFFSETTO:+0200
TZNAME:CEST
DTSTART:20250330T010000
END:DAYLIGHT
BEGIN:STANDARD
TZOFFSETFROM:+0200
TZOFFSETTO:+0100
TZNAME:CET
DTSTART:20251026T010000
END:STANDARD
BEGIN:DAYLIGHT
TZOFFSETFROM:+0100
TZOFFSETTO:+0200
TZNAME:CEST
DTSTART:20260329T010000
END:DAYLIGHT
BEGIN:STANDARD
TZOFFSETFROM:+0200
TZOFFSETTO:+0100
TZNAME:CET
DTSTART:20261025T010000
END:STANDARD
BEGIN:DAYLIGHT
TZOFFSETFROM:+0100
TZOFFSETTO:+0200
TZNAME:CEST
DTSTART:20270328T010000
END:DAYLIGHT
BEGIN:STANDARD
TZOFFSETFROM:+0200
TZOFFSETTO:+0100
TZNAME:CET
DTSTART:20271031T010000
END:STANDARD
END:VTIMEZONE
BEGIN:VEVENT
DTSTART;TZID=Europe/Madrid:20260425T173000
DTEND;TZID=Europe/Madrid:20260425T173000
DTSTAMP:20260425T010541
CREATED:20260416T080239Z
LAST-MODIFIED:20260420T110405Z
UID:10000379-1777138200-1777138200@palaciosalamanca.es
SUMMARY:Día del Idioma Chino en Salamanca: espectáculo cultural “El chino conecta el mundo”
DESCRIPTION:Con el objetivo de celebrar la riqueza y el encanto del idioma y la cultura china\, promover la cultura tradicional y fomentar el intercambio entre China y Occidente\, el Instituto Confucio de la Universidad de Salamanca\, junto con entidades vinculadas a los estudios chinos de la misma universidad\, organiza el espectáculo cultural temático “El chino conecta el mundo”\, con motivo del Día del Idioma Chino. \nEl evento\, bajo el lema “El chino conecta el mundo”\, presenta una propuesta artística variada que incluye canto\, danza\, música instrumental\, recitación poética y canciones en chino\, con el fin de mostrar la profundidad cultural del idioma chino y su vitalidad en la actualidad. El programa combina la elegancia de la música tradicional (como el guqin) con la expresividad de la danza\, así como la musicalidad del idioma a través de la poesía y la canción\, ofreciendo una experiencia escénica rica y diversa. \nLos intérpretes y participantes son principalmente profesores de chino como lengua extranjera y estudiantes de distintos niveles\, quienes llevan al escenario el fruto de su aprendizaje y su experiencia cultural. De este modo\, el espectáculo refleja un modelo de integración entre enseñanza y práctica artística\, destacando el papel del aprendizaje del idioma como vía de acercamiento cultural. \nLa actividad tiene como finalidad crear un espacio de diálogo intercultural\, fortalecer la comprensión mutua entre personas de diferentes contextos culturales y resaltar el papel del idioma como puente para conectar el mundo. \nENTRADA LIBRE HASTA COMPLETAR AFORO \n\nDía: Sábado\, 25 de abril de 2026\nHora: 17:30
URL:https://palaciosalamanca.es/evento/dia-idioma-chino-salamanca-espectaculo-cultural-el-chino-conecta-el-mundo/
LOCATION:Palacio de Congresos de Salamanca
ATTACH;FMTTYPE=image/jpeg:https://palaciosalamanca.es/wp-content/uploads/2026/04/El-chino-conecta-el-mundo-scaled.jpg
END:VEVENT
END:VCALENDAR